BEGIN:VCALENDAR
VERSION:2.0
PRODID:-//wp-events-plugin.com//7.2.3.1//EN
TZID:America/New_York
X-WR-TIMEZONE:America/New_York
BEGIN:VEVENT
UID:770@bluehillme.gov
DTSTART;TZID=America/New_York;VALUE=DATE:20240219
DTEND;TZID=America/New_York;VALUE=DATE:20240220
DTSTAMP:20231219T202808Z
URL:https://bluehillme.gov/events/closed-15/
SUMMARY:CLOSED
DESCRIPTION:The Town Office will be closed in observance of Washington's bi
 rthday.
END:VEVENT
BEGIN:VTIMEZONE
TZID:America/New_York
X-LIC-LOCATION:America/New_York
BEGIN:STANDARD
DTSTART:20231105T010000
TZOFFSETFROM:-0400
TZOFFSETTO:-0500
TZNAME:EST
END:STANDARD
END:VTIMEZONE
END:VCALENDAR