BEGIN:VCALENDAR
VERSION:2.0
PRODID:-//wp-events-plugin.com//7.2.3.1//EN
TZID:America/New_York
X-WR-TIMEZONE:America/New_York
BEGIN:VEVENT
UID:1001@bluehillme.gov
DTSTART;TZID=America/New_York:20250326T080000
DTEND;TZID=America/New_York:20250326T120000
DTSTAMP:20250210T145933Z
URL:https://bluehillme.gov/events/closed-staff-training-2/
SUMMARY:Office Closed- Staff Training
DESCRIPTION:Town Office will be closed 8am-12pm on 3/26/2025 for training\,
  reopening at 12pm.\nOn-line Services:\nOn-line IFW Hunting/Fishing Licens
 ing\nOn-line Maine BMV Autos/Trailers and IFW Boat/ATV Registration\nOn-li
 ne Tax Payments\nOn-line Voter Registration (and updates)\nOn-line and pho
 ne Vital Record ordering\n&nbsp\;\n&nbsp\;
CATEGORIES:Town Office
END:VEVENT
BEGIN:VTIMEZONE
TZID:America/New_York
X-LIC-LOCATION:America/New_York
BEGIN:DAYLIGHT
DTSTART:20250309T030000
TZOFFSETFROM:-0500
TZOFFSETTO:-0400
TZNAME:EDT
END:DAYLIGHT
END:VTIMEZONE
END:VCALENDAR