BEGIN:VCALENDAR
VERSION:2.0
PRODID:-//wp-events-plugin.com//7.2.3.1//EN
TZID:America/New_York
X-WR-TIMEZONE:America/New_York
BEGIN:VEVENT
UID:407@bluehillme.gov
DTSTART;TZID=America/New_York:20230126T160000
DTEND;TZID=America/New_York:20230126T173000
DTSTAMP:20230125T232535Z
URL:https://bluehillme.gov/events/comprehensive-plan-committee-meeting/
SUMMARY:Comprehensive Plan Committee Meeting
DESCRIPTION:The Comp Plan Committee will meet in the Blue Hill Town Hall at
  4pm on January 26th.\n&nbsp\;\nJoin on your computer\, mobile app or room
  device\nClick here to join the meeting\nMeeting ID: 273 019 320 485Passc
 ode: KamJZJ\nOr call in (audio only)\n+1 469-965-2487\,\,379108715#   
 \nPhone Conference ID: 379 108 715#
CATEGORIES:Comprehensive Plan Committee
LOCATION:Select Board Room (Town Hall)\, 18 Union St.\, Blue Hill\, ME\, 04
 614\, United States
X-APPLE-STRUCTURED-LOCATION;VALUE=URI;X-ADDRESS=18 Union St.\, Blue Hill\, 
 ME\, 04614\, United States;X-APPLE-RADIUS=100;X-TITLE=Select Board Room (T
 own Hall):geo:0,0
END:VEVENT
BEGIN:VTIMEZONE
TZID:America/New_York
X-LIC-LOCATION:America/New_York
BEGIN:STANDARD
DTSTART:20221106T010000
TZOFFSETFROM:-0400
TZOFFSETTO:-0500
TZNAME:EST
END:STANDARD
END:VTIMEZONE
END:VCALENDAR