BEGIN:VCALENDAR
VERSION:2.0
PRODID:-//wp-events-plugin.com//7.2.3.1//EN
TZID:America/New_York
X-WR-TIMEZONE:America/New_York
BEGIN:VEVENT
UID:1245@bluehillme.gov
DTSTART;TZID=America/New_York;VALUE=DATE:20260420
DTEND;TZID=America/New_York;VALUE=DATE:20260421
DTSTAMP:20260419T123825Z
URL:https://bluehillme.gov/events/patriots-day-town-office-closed/
SUMMARY:Patriot's Day: Town Office Closed
DESCRIPTION:The Town Office will be closed on Monday\, April 20\, 2026 in o
 bservance of Patriot's Day. There will also be no Select Board meeting on 
 that day.
CATEGORIES:Select Board,Town Office
END:VEVENT
BEGIN:VTIMEZONE
TZID:America/New_York
X-LIC-LOCATION:America/New_York
BEGIN:DAYLIGHT
DTSTART:20260308T030000
TZOFFSETFROM:-0500
TZOFFSETTO:-0400
TZNAME:EDT
END:DAYLIGHT
END:VTIMEZONE
END:VCALENDAR