BEGIN:VCALENDAR
VERSION:2.0
PRODID:-//wp-events-plugin.com//7.2.3.1//EN
TZID:America/New_York
X-WR-TIMEZONE:America/New_York
BEGIN:VEVENT
UID:857@bluehillme.gov
DTSTART;TZID=America/New_York:20241028T174500
DTEND;TZID=America/New_York:20241028T180000
DTSTAMP:20241023T174545Z
URL:https://bluehillme.gov/events/public-hearing-liquor-license-renewal-fo
 r-humblebee-llc/
SUMMARY:Public Hearing - Liquor License Renewal for Humblebee\, LLC
DESCRIPTION:Town of Blue Hill\nPublic Hearing\nThe Town of Blue Hill will h
 old a public hearing to consider approval of a liquor license renewal duri
 ng the October 28\, 2024\, Select Board meeting which will be held at 5:50
  p.m. (directly following the hearing for Parker Ridge) at the Blue Hill T
 own Office. The application is for Humblebee\, LLC (Humblebee Cafe).\nFor 
 more information\, please contact the Town Office.\nTo join virtually clic
 k on the link on the Select Board meeting event 
LOCATION:Select Board Room (Town Hall)\, 18 Union St.\, Blue Hill\, ME\, 04
 614\, United States
X-APPLE-STRUCTURED-LOCATION;VALUE=URI;X-ADDRESS=18 Union St.\, Blue Hill\, 
 ME\, 04614\, United States;X-APPLE-RADIUS=100;X-TITLE=Select Board Room (T
 own Hall):geo:0,0
END:VEVENT
BEGIN:VTIMEZONE
TZID:America/New_York
X-LIC-LOCATION:America/New_York
BEGIN:DAYLIGHT
DTSTART:20240310T030000
TZOFFSETFROM:-0500
TZOFFSETTO:-0400
TZNAME:EDT
END:DAYLIGHT
END:VTIMEZONE
END:VCALENDAR