BEGIN:VCALENDAR
VERSION:2.0
PRODID:-//wp-events-plugin.com//7.2.3.1//EN
TZID:America/New_York
X-WR-TIMEZONE:America/New_York
BEGIN:VEVENT
UID:448@bluehillme.gov
DTSTART;TZID=America/New_York:20230221T173000
DTEND;TZID=America/New_York:20230221T190000
DTSTAMP:20230220T174047Z
URL:https://bluehillme.gov/events/select-board-meeting-10/
SUMMARY:Select Board Meeting
DESCRIPTION:The Select Board generally meets every Monday at 5:30pm in the 
 Select Board room. The public is invited to attend\, and the weekly agenda
  includes a “Public Comment” portion. The board will meet on Tuesday\,
  February 21st due to Presidents Day.\nClick here to join the meeting\nMee
 ting ID: 229 414 353 882\nPasscode: PNs7z3\nOr call in (audio only)\n+1 46
 9-965-2487\,\,769933489#\nPhone Conference ID: 769 933 489#\n
CATEGORIES:Select Board
LOCATION:Select Board Room (Town Hall)\, 18 Union St.\, Blue Hill\, ME\, 04
 614\, United States
X-APPLE-STRUCTURED-LOCATION;VALUE=URI;X-ADDRESS=18 Union St.\, Blue Hill\, 
 ME\, 04614\, United States;X-APPLE-RADIUS=100;X-TITLE=Select Board Room (T
 own Hall):geo:0,0
END:VEVENT
BEGIN:VTIMEZONE
TZID:America/New_York
X-LIC-LOCATION:America/New_York
BEGIN:STANDARD
DTSTART:20221106T010000
TZOFFSETFROM:-0400
TZOFFSETTO:-0500
TZNAME:EST
END:STANDARD
END:VTIMEZONE
END:VCALENDAR