BEGIN:VCALENDAR
VERSION:2.0
PRODID:-//wp-events-plugin.com//7.2.3.1//EN
TZID:America/New_York
X-WR-TIMEZONE:America/New_York
BEGIN:VEVENT
UID:801@bluehillme.gov
DTSTART;TZID=America/New_York:20240218T100000
DTEND;TZID=America/New_York:20240218T130000
DTSTAMP:20240215T002550Z
URL:https://bluehillme.gov/events/select-board-meeting-budget-work-session
 /
SUMMARY:Select Board Meeting & Budget Work Session
DESCRIPTION:\nMicrosoft Teams meeting\nJoin on your computer\, mobile app o
 r room device\nClick here to join the meeting\nMeeting ID: 274 782 020 163
 \n&nbsp\;\nPasscode: bmQgPc\nDownload Teams | Join on the web\nOr call i
 n (audio only)\n+1 469-965-2487\,\,605455748#   United States\, Dallas\n
 Phone Conference ID: 605 455 748#\nFind a local number | Reset PIN\nLear
 n More | Meeting options\n
CATEGORIES:Select Board
LOCATION:Select Board Room (Town Hall)\, 18 Union St.\, Blue Hill\, ME\, 04
 614\, United States
X-APPLE-STRUCTURED-LOCATION;VALUE=URI;X-ADDRESS=18 Union St.\, Blue Hill\, 
 ME\, 04614\, United States;X-APPLE-RADIUS=100;X-TITLE=Select Board Room (T
 own Hall):geo:0,0
END:VEVENT
BEGIN:VTIMEZONE
TZID:America/New_York
X-LIC-LOCATION:America/New_York
BEGIN:STANDARD
DTSTART:20231105T010000
TZOFFSETFROM:-0400
TZOFFSETTO:-0500
TZNAME:EST
END:STANDARD
END:VTIMEZONE
END:VCALENDAR