BEGIN:VCALENDAR
VERSION:2.0
PRODID:-//wp-events-plugin.com//7.2.3.1//EN
TZID:America/New_York
X-WR-TIMEZONE:America/New_York
BEGIN:VEVENT
UID:182@bluehillme.gov
DTSTART;TZID=America/New_York:20221103T160000
DTEND;TZID=America/New_York:20221103T170000
DTSTAMP:20221102T134342Z
URL:https://bluehillme.gov/events/solid-waste-committee-special-meeting-2/
SUMMARY:Solid Waste Committee - Special Meeting
DESCRIPTION:\nJoin on your computer\, mobile app or room device\nClick here
  to join the meeting\nMeeting ID: 279 894 584 093 \nPasscode: tyvD2K\nDown
 load Teams | Join on the web\nOr call in (audio only)\n+1 469-965-2487\,\,
 738486607#   United States\, Dallas\nPhone Conference ID: 738 486 607#\nF
 ind a local number | Reset PIN
CATEGORIES:Solid Waste Committee
LOCATION:https://teams.microsoft.com/l/meetup-join/19%3ameeting_MWUyYjJhYmM
 tYzZlNS00ZTVmLWFiNWEtYmE4MzZlZmVmZTdi%40thread.v2/0?context=%7b%22Tid%22%3
 a%22a9643208-aa78-4abd-9740-7552fba81e02%22%2c%22Oid%22%3a%2252c0f28c-19a7
 -4ad1-a5e5-9b9e94c90da5%22%7d
END:VEVENT
BEGIN:VTIMEZONE
TZID:America/New_York
X-LIC-LOCATION:America/New_York
BEGIN:DAYLIGHT
DTSTART:20220313T030000
TZOFFSETFROM:-0500
TZOFFSETTO:-0400
TZNAME:EDT
END:DAYLIGHT
END:VTIMEZONE
END:VCALENDAR