BEGIN:VCALENDAR
VERSION:2.0
PRODID:-//wp-events-plugin.com//7.2.3.1//EN
TZID:America/New_York
X-WR-TIMEZONE:America/New_York
BEGIN:VEVENT
UID:806@bluehillme.gov
DTSTART;TZID=America/New_York:20240228T130000
DTEND;TZID=America/New_York:20240228T143000
DTSTAMP:20240226T195216Z
URL:https://bluehillme.gov/events/town-budget-committee/
SUMMARY:Town Budget Committee
DESCRIPTION:Remote participation only!\n&nbsp\;\nMicrosoft Teams meeting\nJ
 oin on your computer\, mobile app or room device\nClick here to join the m
 eeting\nMeeting ID: 222 818 884 298\n&nbsp\;\nPasscode: ku5Tpz\nDownload T
 eams | Join on the web\nOr call in (audio only)\n+1 469-965-2487\,\,701477
 98#   United States\, Dallas\nPhone Conference ID: 701 477 98#\nFind a l
 ocal number | Reset PIN\nLearn More | Meeting options\n
CATEGORIES:Budget Committee
END:VEVENT
BEGIN:VTIMEZONE
TZID:America/New_York
X-LIC-LOCATION:America/New_York
BEGIN:STANDARD
DTSTART:20231105T010000
TZOFFSETFROM:-0400
TZOFFSETTO:-0500
TZNAME:EST
END:STANDARD
END:VTIMEZONE
END:VCALENDAR